BEGIN:VCALENDAR
VERSION:2.0
PRODID:-//Parenting Network, Inc. - ECPv6.15.11//NONSGML v1.0//EN
CALSCALE:GREGORIAN
METHOD:PUBLISH
X-ORIGINAL-URL:https://parentingnetwork.org
X-WR-CALDESC:Events for Parenting Network, Inc.
REFRESH-INTERVAL;VALUE=DURATION:PT1H
X-Robots-Tag:noindex
X-PUBLISHED-TTL:PT1H
BEGIN:VTIMEZONE
TZID:America/Los_Angeles
BEGIN:DAYLIGHT
TZOFFSETFROM:-0800
TZOFFSETTO:-0700
TZNAME:PDT
DTSTART:20250309T100000
END:DAYLIGHT
BEGIN:STANDARD
TZOFFSETFROM:-0700
TZOFFSETTO:-0800
TZNAME:PST
DTSTART:20251102T090000
END:STANDARD
BEGIN:DAYLIGHT
TZOFFSETFROM:-0800
TZOFFSETTO:-0700
TZNAME:PDT
DTSTART:20260308T100000
END:DAYLIGHT
BEGIN:STANDARD
TZOFFSETFROM:-0700
TZOFFSETTO:-0800
TZNAME:PST
DTSTART:20261101T090000
END:STANDARD
BEGIN:DAYLIGHT
TZOFFSETFROM:-0800
TZOFFSETTO:-0700
TZNAME:PDT
DTSTART:20270314T100000
END:DAYLIGHT
BEGIN:STANDARD
TZOFFSETFROM:-0700
TZOFFSETTO:-0800
TZNAME:PST
DTSTART:20271107T090000
END:STANDARD
END:VTIMEZONE
BEGIN:VEVENT
DTSTART;TZID=America/Los_Angeles:20260921T160000
DTEND;TZID=America/Los_Angeles:20260921T173000
DTSTAMP:20260422T230801
CREATED:20260422T172522Z
LAST-MODIFIED:20260422T172522Z
UID:13800-1790006400-1790011800@parentingnetwork.org
SUMMARY:Project Fatherhood (Dinuba – Spanish)
DESCRIPTION:
URL:https://parentingnetwork.org/event/project-fatherhood-dinuba-spanish-9/
LOCATION:Dinuba Office\, 597 N. Alta Ave\, Dinuba\, CA\, 93618\, United States
CATEGORIES:Dinuba Events
END:VEVENT
BEGIN:VEVENT
DTSTART;TZID=America/Los_Angeles:20260922T160000
DTEND;TZID=America/Los_Angeles:20260922T173000
DTSTAMP:20260422T230801
CREATED:20260422T183828Z
LAST-MODIFIED:20260422T183828Z
UID:13851-1790092800-1790098200@parentingnetwork.org
SUMMARY:Project Fatherhood (Dinuba)
DESCRIPTION:
URL:https://parentingnetwork.org/event/project-fatherhood-dinuba-16/
LOCATION:Dinuba Office\, 597 N. Alta Ave\, Dinuba\, CA\, 93618\, United States
CATEGORIES:Dinuba Events
END:VEVENT
BEGIN:VEVENT
DTSTART;TZID=America/Los_Angeles:20260928T160000
DTEND;TZID=America/Los_Angeles:20260928T173000
DTSTAMP:20260422T230801
CREATED:20260422T172552Z
LAST-MODIFIED:20260422T172552Z
UID:13802-1790611200-1790616600@parentingnetwork.org
SUMMARY:Project Fatherhood (Dinuba – Spanish)
DESCRIPTION:
URL:https://parentingnetwork.org/event/project-fatherhood-dinuba-spanish-10/
LOCATION:Dinuba Office\, 597 N. Alta Ave\, Dinuba\, CA\, 93618\, United States
CATEGORIES:Dinuba Events
END:VEVENT
BEGIN:VEVENT
DTSTART;TZID=America/Los_Angeles:20260929T160000
DTEND;TZID=America/Los_Angeles:20260929T173000
DTSTAMP:20260422T230801
CREATED:20260422T183850Z
LAST-MODIFIED:20260422T183850Z
UID:13853-1790697600-1790703000@parentingnetwork.org
SUMMARY:Project Fatherhood (Dinuba)
DESCRIPTION:
URL:https://parentingnetwork.org/event/project-fatherhood-dinuba-17/
LOCATION:Dinuba Office\, 597 N. Alta Ave\, Dinuba\, CA\, 93618\, United States
CATEGORIES:Dinuba Events
END:VEVENT
BEGIN:VEVENT
DTSTART;TZID=America/Los_Angeles:20261005T160000
DTEND;TZID=America/Los_Angeles:20261005T173000
DTSTAMP:20260422T230801
CREATED:20260422T172623Z
LAST-MODIFIED:20260422T172623Z
UID:13804-1791216000-1791221400@parentingnetwork.org
SUMMARY:Project Fatherhood (Dinuba – Spanish)
DESCRIPTION:
URL:https://parentingnetwork.org/event/project-fatherhood-dinuba-spanish-11/
LOCATION:Dinuba Office\, 597 N. Alta Ave\, Dinuba\, CA\, 93618\, United States
CATEGORIES:Dinuba Events
END:VEVENT
BEGIN:VEVENT
DTSTART;TZID=America/Los_Angeles:20261006T160000
DTEND;TZID=America/Los_Angeles:20261006T173000
DTSTAMP:20260422T230801
CREATED:20260422T183918Z
LAST-MODIFIED:20260422T183918Z
UID:13856-1791302400-1791307800@parentingnetwork.org
SUMMARY:Project Fatherhood (Dinuba)
DESCRIPTION:
URL:https://parentingnetwork.org/event/project-fatherhood-dinuba-18/
LOCATION:Dinuba Office\, 597 N. Alta Ave\, Dinuba\, CA\, 93618\, United States
CATEGORIES:Dinuba Events
END:VEVENT
BEGIN:VEVENT
DTSTART;TZID=America/Los_Angeles:20261008T163000
DTEND;TZID=America/Los_Angeles:20261008T183000
DTSTAMP:20260422T230801
CREATED:20260106T163939Z
LAST-MODIFIED:20260106T163939Z
UID:13116-1791477000-1791484200@parentingnetwork.org
SUMMARY:Anti Bully
DESCRIPTION:
URL:https://parentingnetwork.org/event/anti-bully-10/
LOCATION:Visalia Office\, 330 N Johnson Street\, Visalia\, CA\, 93291\, United States
CATEGORIES:Visalia Events
END:VEVENT
BEGIN:VEVENT
DTSTART;TZID=America/Los_Angeles:20261012T160000
DTEND;TZID=America/Los_Angeles:20261012T173000
DTSTAMP:20260422T230801
CREATED:20260422T172645Z
LAST-MODIFIED:20260422T172645Z
UID:13806-1791820800-1791826200@parentingnetwork.org
SUMMARY:Project Fatherhood (Dinuba – Spanish)
DESCRIPTION:
URL:https://parentingnetwork.org/event/project-fatherhood-dinuba-spanish-60/
LOCATION:Dinuba Office\, 597 N. Alta Ave\, Dinuba\, CA\, 93618\, United States
CATEGORIES:Dinuba Events
END:VEVENT
BEGIN:VEVENT
DTSTART;TZID=America/Los_Angeles:20261013T160000
DTEND;TZID=America/Los_Angeles:20261013T173000
DTSTAMP:20260422T230801
CREATED:20260422T183942Z
LAST-MODIFIED:20260422T183942Z
UID:13858-1791907200-1791912600@parentingnetwork.org
SUMMARY:Project Fatherhood (Dinuba)
DESCRIPTION:
URL:https://parentingnetwork.org/event/project-fatherhood-dinuba-19/
LOCATION:Dinuba Office\, 597 N. Alta Ave\, Dinuba\, CA\, 93618\, United States
CATEGORIES:Dinuba Events
END:VEVENT
BEGIN:VEVENT
DTSTART;TZID=America/Los_Angeles:20261019T160000
DTEND;TZID=America/Los_Angeles:20261019T173000
DTSTAMP:20260422T230801
CREATED:20260422T172710Z
LAST-MODIFIED:20260422T172710Z
UID:13808-1792425600-1792431000@parentingnetwork.org
SUMMARY:Project Fatherhood (Dinuba – Spanish)
DESCRIPTION:
URL:https://parentingnetwork.org/event/project-fatherhood-dinuba-spanish-61/
LOCATION:Dinuba Office\, 597 N. Alta Ave\, Dinuba\, CA\, 93618\, United States
CATEGORIES:Dinuba Events
END:VEVENT
BEGIN:VEVENT
DTSTART;TZID=America/Los_Angeles:20261020T160000
DTEND;TZID=America/Los_Angeles:20261020T173000
DTSTAMP:20260422T230801
CREATED:20260422T184006Z
LAST-MODIFIED:20260422T184006Z
UID:13860-1792512000-1792517400@parentingnetwork.org
SUMMARY:Project Fatherhood (Dinuba)
DESCRIPTION:
URL:https://parentingnetwork.org/event/project-fatherhood-dinuba-20/
LOCATION:Dinuba Office\, 597 N. Alta Ave\, Dinuba\, CA\, 93618\, United States
CATEGORIES:Dinuba Events
END:VEVENT
BEGIN:VEVENT
DTSTART;TZID=America/Los_Angeles:20261026T160000
DTEND;TZID=America/Los_Angeles:20261026T173000
DTSTAMP:20260422T230801
CREATED:20260422T172738Z
LAST-MODIFIED:20260422T172738Z
UID:13810-1793030400-1793035800@parentingnetwork.org
SUMMARY:Project Fatherhood (Dinuba – Spanish)
DESCRIPTION:
URL:https://parentingnetwork.org/event/project-fatherhood-dinuba-spanish-62/
LOCATION:Dinuba Office\, 597 N. Alta Ave\, Dinuba\, CA\, 93618\, United States
CATEGORIES:Dinuba Events
END:VEVENT
BEGIN:VEVENT
DTSTART;TZID=America/Los_Angeles:20261027T160000
DTEND;TZID=America/Los_Angeles:20261027T173000
DTSTAMP:20260422T230801
CREATED:20260422T184032Z
LAST-MODIFIED:20260422T184032Z
UID:13862-1793116800-1793122200@parentingnetwork.org
SUMMARY:Project Fatherhood (Dinuba)
DESCRIPTION:
URL:https://parentingnetwork.org/event/project-fatherhood-dinuba-21/
LOCATION:Dinuba Office\, 597 N. Alta Ave\, Dinuba\, CA\, 93618\, United States
CATEGORIES:Dinuba Events
END:VEVENT
BEGIN:VEVENT
DTSTART;TZID=America/Los_Angeles:20261102T160000
DTEND;TZID=America/Los_Angeles:20261102T173000
DTSTAMP:20260422T230801
CREATED:20260422T172809Z
LAST-MODIFIED:20260422T172809Z
UID:13812-1793635200-1793640600@parentingnetwork.org
SUMMARY:Project Fatherhood (Dinuba – Spanish)
DESCRIPTION:
URL:https://parentingnetwork.org/event/project-fatherhood-dinuba-spanish-63/
LOCATION:Dinuba Office\, 597 N. Alta Ave\, Dinuba\, CA\, 93618\, United States
CATEGORIES:Dinuba Events
END:VEVENT
BEGIN:VEVENT
DTSTART;TZID=America/Los_Angeles:20261103T160000
DTEND;TZID=America/Los_Angeles:20261103T173000
DTSTAMP:20260422T230801
CREATED:20260422T184105Z
LAST-MODIFIED:20260422T184105Z
UID:13864-1793721600-1793727000@parentingnetwork.org
SUMMARY:Project Fatherhood (Dinuba)
DESCRIPTION:
URL:https://parentingnetwork.org/event/project-fatherhood-dinuba-22/
LOCATION:Dinuba Office\, 597 N. Alta Ave\, Dinuba\, CA\, 93618\, United States
CATEGORIES:Dinuba Events
END:VEVENT
BEGIN:VEVENT
DTSTART;TZID=America/Los_Angeles:20261109T160000
DTEND;TZID=America/Los_Angeles:20261109T173000
DTSTAMP:20260422T230801
CREATED:20260422T172835Z
LAST-MODIFIED:20260422T172835Z
UID:13814-1794240000-1794245400@parentingnetwork.org
SUMMARY:Project Fatherhood (Dinuba – Spanish)
DESCRIPTION:
URL:https://parentingnetwork.org/event/project-fatherhood-dinuba-spanish-64/
LOCATION:Dinuba Office\, 597 N. Alta Ave\, Dinuba\, CA\, 93618\, United States
CATEGORIES:Dinuba Events
END:VEVENT
BEGIN:VEVENT
DTSTART;TZID=America/Los_Angeles:20261110T160000
DTEND;TZID=America/Los_Angeles:20261110T173000
DTSTAMP:20260422T230801
CREATED:20260422T184132Z
LAST-MODIFIED:20260422T184132Z
UID:13866-1794326400-1794331800@parentingnetwork.org
SUMMARY:Project Fatherhood (Dinuba)
DESCRIPTION:
URL:https://parentingnetwork.org/event/project-fatherhood-dinuba-23/
LOCATION:Dinuba Office\, 597 N. Alta Ave\, Dinuba\, CA\, 93618\, United States
CATEGORIES:Dinuba Events
END:VEVENT
BEGIN:VEVENT
DTSTART;VALUE=DATE:20261111
DTEND;VALUE=DATE:20261112
DTSTAMP:20260422T230801
CREATED:20251110T223057Z
LAST-MODIFIED:20251110T223057Z
UID:12836-1794355200-1794441599@parentingnetwork.org
SUMMARY:Office Closed
DESCRIPTION:
URL:https://parentingnetwork.org/event/office-closed-7/
LOCATION:CA
END:VEVENT
BEGIN:VEVENT
DTSTART;TZID=America/Los_Angeles:20261116T160000
DTEND;TZID=America/Los_Angeles:20261116T173000
DTSTAMP:20260422T230801
CREATED:20260422T172900Z
LAST-MODIFIED:20260422T172900Z
UID:13816-1794844800-1794850200@parentingnetwork.org
SUMMARY:Project Fatherhood (Dinuba – Spanish)
DESCRIPTION:
URL:https://parentingnetwork.org/event/project-fatherhood-dinuba-spanish-65/
LOCATION:Dinuba Office\, 597 N. Alta Ave\, Dinuba\, CA\, 93618\, United States
CATEGORIES:Dinuba Events
END:VEVENT
BEGIN:VEVENT
DTSTART;TZID=America/Los_Angeles:20261117T160000
DTEND;TZID=America/Los_Angeles:20261117T173000
DTSTAMP:20260422T230801
CREATED:20260422T184201Z
LAST-MODIFIED:20260422T184201Z
UID:13868-1794931200-1794936600@parentingnetwork.org
SUMMARY:Project Fatherhood (Dinuba)
DESCRIPTION:
URL:https://parentingnetwork.org/event/project-fatherhood-dinuba-24/
LOCATION:Dinuba Office\, 597 N. Alta Ave\, Dinuba\, CA\, 93618\, United States
CATEGORIES:Dinuba Events
END:VEVENT
BEGIN:VEVENT
DTSTART;TZID=America/Los_Angeles:20261123T160000
DTEND;TZID=America/Los_Angeles:20261123T173000
DTSTAMP:20260422T230801
CREATED:20260422T172942Z
LAST-MODIFIED:20260422T172942Z
UID:13818-1795449600-1795455000@parentingnetwork.org
SUMMARY:Project Fatherhood (Dinuba – Spanish)
DESCRIPTION:
URL:https://parentingnetwork.org/event/project-fatherhood-dinuba-spanish-66/
LOCATION:Dinuba Office\, 597 N. Alta Ave\, Dinuba\, CA\, 93618\, United States
CATEGORIES:Dinuba Events
END:VEVENT
BEGIN:VEVENT
DTSTART;TZID=America/Los_Angeles:20261124T160000
DTEND;TZID=America/Los_Angeles:20261124T173000
DTSTAMP:20260422T230801
CREATED:20260422T184228Z
LAST-MODIFIED:20260422T184228Z
UID:13870-1795536000-1795541400@parentingnetwork.org
SUMMARY:Project Fatherhood (Dinuba)
DESCRIPTION:
URL:https://parentingnetwork.org/event/project-fatherhood-dinuba-25/
LOCATION:Dinuba Office\, 597 N. Alta Ave\, Dinuba\, CA\, 93618\, United States
CATEGORIES:Dinuba Events
END:VEVENT
BEGIN:VEVENT
DTSTART;VALUE=DATE:20261126
DTEND;VALUE=DATE:20261128
DTSTAMP:20260422T230801
CREATED:20251110T223123Z
LAST-MODIFIED:20251110T223123Z
UID:12838-1795651200-1795823999@parentingnetwork.org
SUMMARY:Office Closed - Thanksgiving
DESCRIPTION:
URL:https://parentingnetwork.org/event/office-closed-thanksgiving/
LOCATION:CA
END:VEVENT
BEGIN:VEVENT
DTSTART;TZID=America/Los_Angeles:20261130T160000
DTEND;TZID=America/Los_Angeles:20261130T173000
DTSTAMP:20260422T230801
CREATED:20260422T173008Z
LAST-MODIFIED:20260422T173008Z
UID:13820-1796054400-1796059800@parentingnetwork.org
SUMMARY:Project Fatherhood (Dinuba – Spanish)
DESCRIPTION:
URL:https://parentingnetwork.org/event/project-fatherhood-dinuba-spanish-67/
LOCATION:Dinuba Office\, 597 N. Alta Ave\, Dinuba\, CA\, 93618\, United States
CATEGORIES:Dinuba Events
END:VEVENT
BEGIN:VEVENT
DTSTART;TZID=America/Los_Angeles:20261201T160000
DTEND;TZID=America/Los_Angeles:20261201T173000
DTSTAMP:20260422T230801
CREATED:20260422T184301Z
LAST-MODIFIED:20260422T184301Z
UID:13872-1796140800-1796146200@parentingnetwork.org
SUMMARY:Project Fatherhood (Dinuba)
DESCRIPTION:
URL:https://parentingnetwork.org/event/project-fatherhood-dinuba-26/
LOCATION:Dinuba Office\, 597 N. Alta Ave\, Dinuba\, CA\, 93618\, United States
CATEGORIES:Dinuba Events
END:VEVENT
BEGIN:VEVENT
DTSTART;TZID=America/Los_Angeles:20261207T160000
DTEND;TZID=America/Los_Angeles:20261207T173000
DTSTAMP:20260422T230801
CREATED:20260422T183055Z
LAST-MODIFIED:20260422T183055Z
UID:13822-1796659200-1796664600@parentingnetwork.org
SUMMARY:Project Fatherhood (Dinuba – Spanish)
DESCRIPTION:
URL:https://parentingnetwork.org/event/project-fatherhood-dinuba-spanish-68/
LOCATION:Dinuba Office\, 597 N. Alta Ave\, Dinuba\, CA\, 93618\, United States
CATEGORIES:Dinuba Events
END:VEVENT
BEGIN:VEVENT
DTSTART;TZID=America/Los_Angeles:20261208T160000
DTEND;TZID=America/Los_Angeles:20261208T173000
DTSTAMP:20260422T230801
CREATED:20260422T184327Z
LAST-MODIFIED:20260422T184327Z
UID:13874-1796745600-1796751000@parentingnetwork.org
SUMMARY:Project Fatherhood (Dinuba)
DESCRIPTION:
URL:https://parentingnetwork.org/event/project-fatherhood-dinuba-27/
LOCATION:Dinuba Office\, 597 N. Alta Ave\, Dinuba\, CA\, 93618\, United States
CATEGORIES:Dinuba Events
END:VEVENT
BEGIN:VEVENT
DTSTART;TZID=America/Los_Angeles:20261214T160000
DTEND;TZID=America/Los_Angeles:20261214T173000
DTSTAMP:20260422T230801
CREATED:20260422T183128Z
LAST-MODIFIED:20260422T183128Z
UID:13824-1797264000-1797269400@parentingnetwork.org
SUMMARY:Project Fatherhood (Dinuba – Spanish)
DESCRIPTION:
URL:https://parentingnetwork.org/event/project-fatherhood-dinuba-spanish-69/
LOCATION:Dinuba Office\, 597 N. Alta Ave\, Dinuba\, CA\, 93618\, United States
CATEGORIES:Dinuba Events
END:VEVENT
BEGIN:VEVENT
DTSTART;TZID=America/Los_Angeles:20261215T160000
DTEND;TZID=America/Los_Angeles:20261215T173000
DTSTAMP:20260422T230801
CREATED:20260422T184356Z
LAST-MODIFIED:20260422T184356Z
UID:13876-1797350400-1797355800@parentingnetwork.org
SUMMARY:Project Fatherhood (Dinuba)
DESCRIPTION:
URL:https://parentingnetwork.org/event/project-fatherhood-dinuba-28/
LOCATION:Dinuba Office\, 597 N. Alta Ave\, Dinuba\, CA\, 93618\, United States
CATEGORIES:Dinuba Events
END:VEVENT
BEGIN:VEVENT
DTSTART;TZID=America/Los_Angeles:20261221T160000
DTEND;TZID=America/Los_Angeles:20261221T173000
DTSTAMP:20260422T230801
CREATED:20260422T183159Z
LAST-MODIFIED:20260422T183159Z
UID:13826-1797868800-1797874200@parentingnetwork.org
SUMMARY:Project Fatherhood (Dinuba – Spanish)
DESCRIPTION:
URL:https://parentingnetwork.org/event/project-fatherhood-dinuba-spanish-70/
LOCATION:Dinuba Office\, 597 N. Alta Ave\, Dinuba\, CA\, 93618\, United States
CATEGORIES:Dinuba Events
END:VEVENT
END:VCALENDAR