BEGIN:VCALENDAR
VERSION:2.0
PRODID:-//Parenting Network, Inc. - ECPv6.15.11//NONSGML v1.0//EN
CALSCALE:GREGORIAN
METHOD:PUBLISH
X-ORIGINAL-URL:https://parentingnetwork.org
X-WR-CALDESC:Events for Parenting Network, Inc.
REFRESH-INTERVAL;VALUE=DURATION:PT1H
X-Robots-Tag:noindex
X-PUBLISHED-TTL:PT1H
BEGIN:VTIMEZONE
TZID:America/Los_Angeles
BEGIN:DAYLIGHT
TZOFFSETFROM:-0800
TZOFFSETTO:-0700
TZNAME:PDT
DTSTART:20250309T100000
END:DAYLIGHT
BEGIN:STANDARD
TZOFFSETFROM:-0700
TZOFFSETTO:-0800
TZNAME:PST
DTSTART:20251102T090000
END:STANDARD
BEGIN:DAYLIGHT
TZOFFSETFROM:-0800
TZOFFSETTO:-0700
TZNAME:PDT
DTSTART:20260308T100000
END:DAYLIGHT
BEGIN:STANDARD
TZOFFSETFROM:-0700
TZOFFSETTO:-0800
TZNAME:PST
DTSTART:20261101T090000
END:STANDARD
BEGIN:DAYLIGHT
TZOFFSETFROM:-0800
TZOFFSETTO:-0700
TZNAME:PDT
DTSTART:20270314T100000
END:DAYLIGHT
BEGIN:STANDARD
TZOFFSETFROM:-0700
TZOFFSETTO:-0800
TZNAME:PST
DTSTART:20271107T090000
END:STANDARD
END:VTIMEZONE
BEGIN:VEVENT
DTSTART;TZID=America/Los_Angeles:20260630T163000
DTEND;TZID=America/Los_Angeles:20260630T183000
DTSTAMP:20260422T200753
CREATED:20260324T200357Z
LAST-MODIFIED:20260324T200357Z
UID:13612-1782837000-1782844200@parentingnetwork.org
SUMMARY:Nurturing Parents
DESCRIPTION:
URL:https://parentingnetwork.org/event/nurturing-parents-45/
LOCATION:Visalia Office\, 330 N Johnson Street\, Visalia\, CA\, 93291\, United States
CATEGORIES:Visalia Events
END:VEVENT
BEGIN:VEVENT
DTSTART;TZID=America/Los_Angeles:20260701T100000
DTEND;TZID=America/Los_Angeles:20260701T120000
DTSTAMP:20260422T200753
CREATED:20260316T202953Z
LAST-MODIFIED:20260316T202953Z
UID:13487-1782900000-1782907200@parentingnetwork.org
SUMMARY:Project Fatherhood – Nurturing Fathers (Porterville)
DESCRIPTION:
URL:https://parentingnetwork.org/event/project-fatherhood-nurturing-fathers-porterville-50/
LOCATION:Porterville Office\, 770 N. Main St.\, Porterville\, CA\, 93257\, United States
CATEGORIES:Porterville Events
END:VEVENT
BEGIN:VEVENT
DTSTART;TZID=America/Los_Angeles:20260701T160000
DTEND;TZID=America/Los_Angeles:20260701T173000
DTSTAMP:20260422T200753
CREATED:20260316T205228Z
LAST-MODIFIED:20260316T205228Z
UID:13558-1782921600-1782927000@parentingnetwork.org
SUMMARY:Project Fatherhood (Visalia)
DESCRIPTION:
URL:https://parentingnetwork.org/event/project-fatherhood-visalia-26/
LOCATION:Visalia Office\, 330 N Johnson Street\, Visalia\, CA\, 93291\, United States
CATEGORIES:Visalia Events
END:VEVENT
BEGIN:VEVENT
DTSTART;TZID=America/Los_Angeles:20260702T160000
DTEND;TZID=America/Los_Angeles:20260702T173000
DTSTAMP:20260422T200753
CREATED:20260316T203923Z
LAST-MODIFIED:20260316T203923Z
UID:13523-1783008000-1783013400@parentingnetwork.org
SUMMARY:Project Fatherhood – Men In Relationships Group (Porterville)
DESCRIPTION:
URL:https://parentingnetwork.org/event/project-fatherhood-men-in-relationships-group-porterville-48/
LOCATION:Porterville Office\, 770 N. Main St.\, Porterville\, CA\, 93257\, United States
CATEGORIES:Porterville Events
END:VEVENT
BEGIN:VEVENT
DTSTART;TZID=America/Los_Angeles:20260706T160000
DTEND;TZID=America/Los_Angeles:20260706T173000
DTSTAMP:20260422T200753
CREATED:20260316T194143Z
LAST-MODIFIED:20260316T194405Z
UID:13366-1783353600-1783359000@parentingnetwork.org
SUMMARY:Project Fatherhood (Dinuba – Spanish)
DESCRIPTION:
URL:https://parentingnetwork.org/event/project-fatherhood-dinuba-spanish-55/
LOCATION:Dinuba Office\, 597 N. Alta Ave\, Dinuba\, CA\, 93618\, United States
CATEGORIES:Dinuba Events
END:VEVENT
BEGIN:VEVENT
DTSTART;TZID=America/Los_Angeles:20260707T100000
DTEND;TZID=America/Los_Angeles:20260707T120000
DTSTAMP:20260422T200753
CREATED:20260316T201227Z
LAST-MODIFIED:20260316T201227Z
UID:13449-1783418400-1783425600@parentingnetwork.org
SUMMARY:Project Fatherhood – 24/7 Dad (Porterville)
DESCRIPTION:
URL:https://parentingnetwork.org/event/project-fatherhood-24-7-dad-porterville-51/
LOCATION:Porterville Office\, 770 N. Main St.\, Porterville\, CA\, 93257\, United States
CATEGORIES:Porterville Events
END:VEVENT
BEGIN:VEVENT
DTSTART;TZID=America/Los_Angeles:20260707T160000
DTEND;TZID=America/Los_Angeles:20260707T173000
DTSTAMP:20260422T200753
CREATED:20260316T195235Z
LAST-MODIFIED:20260316T195235Z
UID:13409-1783440000-1783445400@parentingnetwork.org
SUMMARY:Project Fatherhood (Dinuba)
DESCRIPTION:
URL:https://parentingnetwork.org/event/project-fatherhood-dinuba-90/
LOCATION:Dinuba Office\, 597 N. Alta Ave\, Dinuba\, CA\, 93618\, United States
CATEGORIES:Dinuba Events
END:VEVENT
BEGIN:VEVENT
DTSTART;TZID=America/Los_Angeles:20260707T163000
DTEND;TZID=America/Los_Angeles:20260707T183000
DTSTAMP:20260422T200753
CREATED:20260324T200419Z
LAST-MODIFIED:20260324T200419Z
UID:13614-1783441800-1783449000@parentingnetwork.org
SUMMARY:Nurturing Parents
DESCRIPTION:
URL:https://parentingnetwork.org/event/nurturing-parents-46/
LOCATION:Visalia Office\, 330 N Johnson Street\, Visalia\, CA\, 93291\, United States
CATEGORIES:Visalia Events
END:VEVENT
BEGIN:VEVENT
DTSTART;TZID=America/Los_Angeles:20260707T170000
DTEND;TZID=America/Los_Angeles:20260707T180000
DTSTAMP:20260422T200753
CREATED:20260326T162829Z
LAST-MODIFIED:20260402T174750Z
UID:13626-1783443600-1783447200@parentingnetwork.org
SUMMARY:Parent Partner Support Group
DESCRIPTION:
URL:https://parentingnetwork.org/event/parent-partner-support-group-7/
LOCATION:Visalia Office/Virtual Streaming\, 330 N Johnson St\, Visalia\, CA\, 93291\, United States
CATEGORIES:Visalia Events
END:VEVENT
BEGIN:VEVENT
DTSTART;TZID=America/Los_Angeles:20260708T100000
DTEND;TZID=America/Los_Angeles:20260708T120000
DTSTAMP:20260422T200753
CREATED:20260316T203037Z
LAST-MODIFIED:20260316T203037Z
UID:13489-1783504800-1783512000@parentingnetwork.org
SUMMARY:Project Fatherhood – Nurturing Fathers (Porterville)
DESCRIPTION:
URL:https://parentingnetwork.org/event/project-fatherhood-nurturing-fathers-porterville-51/
LOCATION:Porterville Office\, 770 N. Main St.\, Porterville\, CA\, 93257\, United States
CATEGORIES:Porterville Events
END:VEVENT
BEGIN:VEVENT
DTSTART;TZID=America/Los_Angeles:20260708T160000
DTEND;TZID=America/Los_Angeles:20260708T173000
DTSTAMP:20260422T200753
CREATED:20260316T205250Z
LAST-MODIFIED:20260316T205250Z
UID:13560-1783526400-1783531800@parentingnetwork.org
SUMMARY:Project Fatherhood (Visalia)
DESCRIPTION:
URL:https://parentingnetwork.org/event/project-fatherhood-visalia-27/
LOCATION:Visalia Office\, 330 N Johnson Street\, Visalia\, CA\, 93291\, United States
CATEGORIES:Visalia Events
END:VEVENT
BEGIN:VEVENT
DTSTART;TZID=America/Los_Angeles:20260709T160000
DTEND;TZID=America/Los_Angeles:20260709T173000
DTSTAMP:20260422T200753
CREATED:20260316T203954Z
LAST-MODIFIED:20260316T203954Z
UID:13525-1783612800-1783618200@parentingnetwork.org
SUMMARY:Project Fatherhood – Men In Relationships Group (Porterville)
DESCRIPTION:
URL:https://parentingnetwork.org/event/project-fatherhood-men-in-relationships-group-porterville-49/
LOCATION:Porterville Office\, 770 N. Main St.\, Porterville\, CA\, 93257\, United States
CATEGORIES:Porterville Events
END:VEVENT
BEGIN:VEVENT
DTSTART;TZID=America/Los_Angeles:20260709T163000
DTEND;TZID=America/Los_Angeles:20260709T183000
DTSTAMP:20260422T200753
CREATED:20260106T163749Z
LAST-MODIFIED:20260106T163749Z
UID:13110-1783614600-1783621800@parentingnetwork.org
SUMMARY:Anti Bully
DESCRIPTION:
URL:https://parentingnetwork.org/event/anti-bully-7/
LOCATION:Visalia Office\, 330 N Johnson Street\, Visalia\, CA\, 93291\, United States
CATEGORIES:Visalia Events
END:VEVENT
BEGIN:VEVENT
DTSTART;TZID=America/Los_Angeles:20260713T160000
DTEND;TZID=America/Los_Angeles:20260713T173000
DTSTAMP:20260422T200753
CREATED:20260316T194644Z
LAST-MODIFIED:20260316T200005Z
UID:13381-1783958400-1783963800@parentingnetwork.org
SUMMARY:Project Fatherhood (Dinuba)
DESCRIPTION:
URL:https://parentingnetwork.org/event/project-fatherhood-dinuba-3/
LOCATION:Dinuba Office\, 597 N. Alta Ave\, Dinuba\, CA\, 93618\, United States
CATEGORIES:Dinuba Events
END:VEVENT
BEGIN:VEVENT
DTSTART;TZID=America/Los_Angeles:20260714T100000
DTEND;TZID=America/Los_Angeles:20260714T120000
DTSTAMP:20260422T200753
CREATED:20260422T184550Z
LAST-MODIFIED:20260422T184550Z
UID:13882-1784023200-1784030400@parentingnetwork.org
SUMMARY:Project Fatherhood – 24/7 Dad (Porterville)
DESCRIPTION:
URL:https://parentingnetwork.org/event/project-fatherhood-24-7-dad-porterville-52/
LOCATION:Porterville Office\, 770 N. Main St.\, Porterville\, CA\, 93257\, United States
CATEGORIES:Porterville Events
END:VEVENT
BEGIN:VEVENT
DTSTART;TZID=America/Los_Angeles:20260714T160000
DTEND;TZID=America/Los_Angeles:20260714T173000
DTSTAMP:20260422T200753
CREATED:20260422T183354Z
LAST-MODIFIED:20260422T183354Z
UID:13831-1784044800-1784050200@parentingnetwork.org
SUMMARY:Project Fatherhood (Dinuba)
DESCRIPTION:
URL:https://parentingnetwork.org/event/project-fatherhood-dinuba-6/
LOCATION:Dinuba Office\, 597 N. Alta Ave\, Dinuba\, CA\, 93618\, United States
CATEGORIES:Dinuba Events
END:VEVENT
BEGIN:VEVENT
DTSTART;TZID=America/Los_Angeles:20260715T100000
DTEND;TZID=America/Los_Angeles:20260715T120000
DTSTAMP:20260422T200753
CREATED:20260422T184658Z
LAST-MODIFIED:20260422T184658Z
UID:13884-1784109600-1784116800@parentingnetwork.org
SUMMARY:Project Fatherhood – Nurturing Fathers (Porterville)
DESCRIPTION:
URL:https://parentingnetwork.org/event/project-fatherhood-nurturing-fathers-porterville-52/
LOCATION:Porterville Office\, 770 N. Main St.\, Porterville\, CA\, 93257\, United States
CATEGORIES:Porterville Events
END:VEVENT
BEGIN:VEVENT
DTSTART;TZID=America/Los_Angeles:20260720T160000
DTEND;TZID=America/Los_Angeles:20260720T173000
DTSTAMP:20260422T200753
CREATED:20260422T172057Z
LAST-MODIFIED:20260422T172057Z
UID:13784-1784563200-1784568600@parentingnetwork.org
SUMMARY:Project Fatherhood (Dinuba – Spanish)
DESCRIPTION:
URL:https://parentingnetwork.org/event/project-fatherhood-dinuba-spanish/
LOCATION:Dinuba Office\, 597 N. Alta Ave\, Dinuba\, CA\, 93618\, United States
CATEGORIES:Dinuba Events
END:VEVENT
BEGIN:VEVENT
DTSTART;TZID=America/Los_Angeles:20260721T100000
DTEND;TZID=America/Los_Angeles:20260721T120000
DTSTAMP:20260422T200753
CREATED:20260422T184810Z
LAST-MODIFIED:20260422T184810Z
UID:13888-1784628000-1784635200@parentingnetwork.org
SUMMARY:Project Fatherhood – 24/7 Dad (Porterville)
DESCRIPTION:
URL:https://parentingnetwork.org/event/project-fatherhood-24-7-dad-porterville-53/
LOCATION:Porterville Office\, 770 N. Main St.\, Porterville\, CA\, 93257\, United States
CATEGORIES:Porterville Events
END:VEVENT
BEGIN:VEVENT
DTSTART;TZID=America/Los_Angeles:20260721T160000
DTEND;TZID=America/Los_Angeles:20260721T173000
DTSTAMP:20260422T200753
CREATED:20260422T183421Z
LAST-MODIFIED:20260422T183421Z
UID:13833-1784649600-1784655000@parentingnetwork.org
SUMMARY:Project Fatherhood (Dinuba)
DESCRIPTION:
URL:https://parentingnetwork.org/event/project-fatherhood-dinuba-7/
LOCATION:Dinuba Office\, 597 N. Alta Ave\, Dinuba\, CA\, 93618\, United States
CATEGORIES:Dinuba Events
END:VEVENT
BEGIN:VEVENT
DTSTART;TZID=America/Los_Angeles:20260722T100000
DTEND;TZID=America/Los_Angeles:20260722T120000
DTSTAMP:20260422T200753
CREATED:20260422T184732Z
LAST-MODIFIED:20260422T184732Z
UID:13886-1784714400-1784721600@parentingnetwork.org
SUMMARY:Project Fatherhood – Nurturing Fathers (Porterville)
DESCRIPTION:
URL:https://parentingnetwork.org/event/project-fatherhood-nurturing-fathers-porterville-53/
LOCATION:Porterville Office\, 770 N. Main St.\, Porterville\, CA\, 93257\, United States
CATEGORIES:Porterville Events
END:VEVENT
BEGIN:VEVENT
DTSTART;TZID=America/Los_Angeles:20260727T160000
DTEND;TZID=America/Los_Angeles:20260727T173000
DTSTAMP:20260422T200753
CREATED:20260422T172150Z
LAST-MODIFIED:20260422T172150Z
UID:13786-1785168000-1785173400@parentingnetwork.org
SUMMARY:Project Fatherhood (Dinuba – Spanish)
DESCRIPTION:
URL:https://parentingnetwork.org/event/project-fatherhood-dinuba-spanish-2/
LOCATION:Dinuba Office\, 597 N. Alta Ave\, Dinuba\, CA\, 93618\, United States
CATEGORIES:Dinuba Events
END:VEVENT
BEGIN:VEVENT
DTSTART;TZID=America/Los_Angeles:20260728T100000
DTEND;TZID=America/Los_Angeles:20260728T120000
DTSTAMP:20260422T200753
CREATED:20260422T184838Z
LAST-MODIFIED:20260422T184838Z
UID:13890-1785232800-1785240000@parentingnetwork.org
SUMMARY:Project Fatherhood – 24/7 Dad (Porterville)
DESCRIPTION:
URL:https://parentingnetwork.org/event/project-fatherhood-24-7-dad-porterville-54/
LOCATION:Porterville Office\, 770 N. Main St.\, Porterville\, CA\, 93257\, United States
CATEGORIES:Porterville Events
END:VEVENT
BEGIN:VEVENT
DTSTART;TZID=America/Los_Angeles:20260728T160000
DTEND;TZID=America/Los_Angeles:20260728T173000
DTSTAMP:20260422T200753
CREATED:20260422T183450Z
LAST-MODIFIED:20260422T183450Z
UID:13835-1785254400-1785259800@parentingnetwork.org
SUMMARY:Project Fatherhood (Dinuba)
DESCRIPTION:
URL:https://parentingnetwork.org/event/project-fatherhood-dinuba-8/
LOCATION:Dinuba Office\, 597 N. Alta Ave\, Dinuba\, CA\, 93618\, United States
CATEGORIES:Dinuba Events
END:VEVENT
BEGIN:VEVENT
DTSTART;TZID=America/Los_Angeles:20260729T100000
DTEND;TZID=America/Los_Angeles:20260729T120000
DTSTAMP:20260422T200753
CREATED:20260422T185010Z
LAST-MODIFIED:20260422T185010Z
UID:13894-1785319200-1785326400@parentingnetwork.org
SUMMARY:Project Fatherhood – Nurturing Fathers (Porterville)
DESCRIPTION:
URL:https://parentingnetwork.org/event/project-fatherhood-nurturing-fathers-porterville-54/
LOCATION:Porterville Office\, 770 N. Main St.\, Porterville\, CA\, 93257\, United States
CATEGORIES:Porterville Events
END:VEVENT
BEGIN:VEVENT
DTSTART;TZID=America/Los_Angeles:20260803T160000
DTEND;TZID=America/Los_Angeles:20260803T173000
DTSTAMP:20260422T200753
CREATED:20260422T172227Z
LAST-MODIFIED:20260422T172227Z
UID:13788-1785772800-1785778200@parentingnetwork.org
SUMMARY:Project Fatherhood (Dinuba – Spanish)
DESCRIPTION:
URL:https://parentingnetwork.org/event/project-fatherhood-dinuba-spanish-3/
LOCATION:Dinuba Office\, 597 N. Alta Ave\, Dinuba\, CA\, 93618\, United States
CATEGORIES:Dinuba Events
END:VEVENT
BEGIN:VEVENT
DTSTART;TZID=America/Los_Angeles:20260804T100000
DTEND;TZID=America/Los_Angeles:20260804T120000
DTSTAMP:20260422T200753
CREATED:20260422T184913Z
LAST-MODIFIED:20260422T184930Z
UID:13892-1785837600-1785844800@parentingnetwork.org
SUMMARY:Project Fatherhood – 24/7 Dad (Porterville)
DESCRIPTION:
URL:https://parentingnetwork.org/event/project-fatherhood-24-7-dad-porterville-55/
LOCATION:Porterville Office\, 770 N. Main St.\, Porterville\, CA\, 93257\, United States
CATEGORIES:Porterville Events
END:VEVENT
BEGIN:VEVENT
DTSTART;TZID=America/Los_Angeles:20260804T160000
DTEND;TZID=America/Los_Angeles:20260804T173000
DTSTAMP:20260422T200753
CREATED:20260422T183520Z
LAST-MODIFIED:20260422T183520Z
UID:13837-1785859200-1785864600@parentingnetwork.org
SUMMARY:Project Fatherhood (Dinuba)
DESCRIPTION:
URL:https://parentingnetwork.org/event/project-fatherhood-dinuba-9/
LOCATION:Dinuba Office\, 597 N. Alta Ave\, Dinuba\, CA\, 93618\, United States
END:VEVENT
BEGIN:VEVENT
DTSTART;TZID=America/Los_Angeles:20260804T170000
DTEND;TZID=America/Los_Angeles:20260804T180000
DTSTAMP:20260422T200753
CREATED:20260326T162854Z
LAST-MODIFIED:20260402T174738Z
UID:13628-1785862800-1785866400@parentingnetwork.org
SUMMARY:Parent Partner Support Group
DESCRIPTION:
URL:https://parentingnetwork.org/event/parent-partner-support-group-8/
LOCATION:Visalia Office/Virtual Streaming\, 330 N Johnson St\, Visalia\, CA\, 93291\, United States
CATEGORIES:Visalia Events
END:VEVENT
BEGIN:VEVENT
DTSTART;TZID=America/Los_Angeles:20260805T100000
DTEND;TZID=America/Los_Angeles:20260805T120000
DTSTAMP:20260422T200753
CREATED:20260422T185051Z
LAST-MODIFIED:20260422T185051Z
UID:13896-1785924000-1785931200@parentingnetwork.org
SUMMARY:Project Fatherhood – Nurturing Fathers (Porterville)
DESCRIPTION:
URL:https://parentingnetwork.org/event/project-fatherhood-nurturing-fathers-porterville-55/
LOCATION:Porterville Office\, 770 N. Main St.\, Porterville\, CA\, 93257\, United States
CATEGORIES:Porterville Events
END:VEVENT
END:VCALENDAR