BEGIN:VCALENDAR
VERSION:2.0
PRODID:-//Parenting Network, Inc. - ECPv6.15.11//NONSGML v1.0//EN
CALSCALE:GREGORIAN
METHOD:PUBLISH
X-ORIGINAL-URL:https://parentingnetwork.org
X-WR-CALDESC:Events for Parenting Network, Inc.
REFRESH-INTERVAL;VALUE=DURATION:PT1H
X-Robots-Tag:noindex
X-PUBLISHED-TTL:PT1H
BEGIN:VTIMEZONE
TZID:America/Los_Angeles
BEGIN:DAYLIGHT
TZOFFSETFROM:-0800
TZOFFSETTO:-0700
TZNAME:PDT
DTSTART:20250309T100000
END:DAYLIGHT
BEGIN:STANDARD
TZOFFSETFROM:-0700
TZOFFSETTO:-0800
TZNAME:PST
DTSTART:20251102T090000
END:STANDARD
BEGIN:DAYLIGHT
TZOFFSETFROM:-0800
TZOFFSETTO:-0700
TZNAME:PDT
DTSTART:20260308T100000
END:DAYLIGHT
BEGIN:STANDARD
TZOFFSETFROM:-0700
TZOFFSETTO:-0800
TZNAME:PST
DTSTART:20261101T090000
END:STANDARD
BEGIN:DAYLIGHT
TZOFFSETFROM:-0800
TZOFFSETTO:-0700
TZNAME:PDT
DTSTART:20270314T100000
END:DAYLIGHT
BEGIN:STANDARD
TZOFFSETFROM:-0700
TZOFFSETTO:-0800
TZNAME:PST
DTSTART:20271107T090000
END:STANDARD
END:VTIMEZONE
BEGIN:VEVENT
DTSTART;TZID=America/Los_Angeles:20260727T160000
DTEND;TZID=America/Los_Angeles:20260727T173000
DTSTAMP:20260423T004050
CREATED:20260422T172150Z
LAST-MODIFIED:20260422T172150Z
UID:13786-1785168000-1785173400@parentingnetwork.org
SUMMARY:Project Fatherhood (Dinuba – Spanish)
DESCRIPTION:
URL:https://parentingnetwork.org/event/project-fatherhood-dinuba-spanish-2/
LOCATION:Dinuba Office\, 597 N. Alta Ave\, Dinuba\, CA\, 93618\, United States
CATEGORIES:Dinuba Events
END:VEVENT
BEGIN:VEVENT
DTSTART;TZID=America/Los_Angeles:20260728T100000
DTEND;TZID=America/Los_Angeles:20260728T120000
DTSTAMP:20260423T004050
CREATED:20260422T184838Z
LAST-MODIFIED:20260422T184838Z
UID:13890-1785232800-1785240000@parentingnetwork.org
SUMMARY:Project Fatherhood – 24/7 Dad (Porterville)
DESCRIPTION:
URL:https://parentingnetwork.org/event/project-fatherhood-24-7-dad-porterville-54/
LOCATION:Porterville Office\, 770 N. Main St.\, Porterville\, CA\, 93257\, United States
CATEGORIES:Porterville Events
END:VEVENT
BEGIN:VEVENT
DTSTART;TZID=America/Los_Angeles:20260728T160000
DTEND;TZID=America/Los_Angeles:20260728T173000
DTSTAMP:20260423T004050
CREATED:20260422T183450Z
LAST-MODIFIED:20260422T183450Z
UID:13835-1785254400-1785259800@parentingnetwork.org
SUMMARY:Project Fatherhood (Dinuba)
DESCRIPTION:
URL:https://parentingnetwork.org/event/project-fatherhood-dinuba-8/
LOCATION:Dinuba Office\, 597 N. Alta Ave\, Dinuba\, CA\, 93618\, United States
CATEGORIES:Dinuba Events
END:VEVENT
BEGIN:VEVENT
DTSTART;TZID=America/Los_Angeles:20260729T100000
DTEND;TZID=America/Los_Angeles:20260729T120000
DTSTAMP:20260423T004050
CREATED:20260422T185010Z
LAST-MODIFIED:20260422T185010Z
UID:13894-1785319200-1785326400@parentingnetwork.org
SUMMARY:Project Fatherhood – Nurturing Fathers (Porterville)
DESCRIPTION:
URL:https://parentingnetwork.org/event/project-fatherhood-nurturing-fathers-porterville-54/
LOCATION:Porterville Office\, 770 N. Main St.\, Porterville\, CA\, 93257\, United States
CATEGORIES:Porterville Events
END:VEVENT
BEGIN:VEVENT
DTSTART;TZID=America/Los_Angeles:20260803T160000
DTEND;TZID=America/Los_Angeles:20260803T173000
DTSTAMP:20260423T004050
CREATED:20260422T172227Z
LAST-MODIFIED:20260422T172227Z
UID:13788-1785772800-1785778200@parentingnetwork.org
SUMMARY:Project Fatherhood (Dinuba – Spanish)
DESCRIPTION:
URL:https://parentingnetwork.org/event/project-fatherhood-dinuba-spanish-3/
LOCATION:Dinuba Office\, 597 N. Alta Ave\, Dinuba\, CA\, 93618\, United States
CATEGORIES:Dinuba Events
END:VEVENT
BEGIN:VEVENT
DTSTART;TZID=America/Los_Angeles:20260804T100000
DTEND;TZID=America/Los_Angeles:20260804T120000
DTSTAMP:20260423T004050
CREATED:20260422T184913Z
LAST-MODIFIED:20260422T184930Z
UID:13892-1785837600-1785844800@parentingnetwork.org
SUMMARY:Project Fatherhood – 24/7 Dad (Porterville)
DESCRIPTION:
URL:https://parentingnetwork.org/event/project-fatherhood-24-7-dad-porterville-55/
LOCATION:Porterville Office\, 770 N. Main St.\, Porterville\, CA\, 93257\, United States
CATEGORIES:Porterville Events
END:VEVENT
BEGIN:VEVENT
DTSTART;TZID=America/Los_Angeles:20260804T160000
DTEND;TZID=America/Los_Angeles:20260804T173000
DTSTAMP:20260423T004050
CREATED:20260422T183520Z
LAST-MODIFIED:20260422T183520Z
UID:13837-1785859200-1785864600@parentingnetwork.org
SUMMARY:Project Fatherhood (Dinuba)
DESCRIPTION:
URL:https://parentingnetwork.org/event/project-fatherhood-dinuba-9/
LOCATION:Dinuba Office\, 597 N. Alta Ave\, Dinuba\, CA\, 93618\, United States
END:VEVENT
BEGIN:VEVENT
DTSTART;TZID=America/Los_Angeles:20260804T170000
DTEND;TZID=America/Los_Angeles:20260804T180000
DTSTAMP:20260423T004050
CREATED:20260326T162854Z
LAST-MODIFIED:20260402T174738Z
UID:13628-1785862800-1785866400@parentingnetwork.org
SUMMARY:Parent Partner Support Group
DESCRIPTION:
URL:https://parentingnetwork.org/event/parent-partner-support-group-8/
LOCATION:Visalia Office/Virtual Streaming\, 330 N Johnson St\, Visalia\, CA\, 93291\, United States
CATEGORIES:Visalia Events
END:VEVENT
BEGIN:VEVENT
DTSTART;TZID=America/Los_Angeles:20260805T100000
DTEND;TZID=America/Los_Angeles:20260805T120000
DTSTAMP:20260423T004050
CREATED:20260422T185051Z
LAST-MODIFIED:20260422T185051Z
UID:13896-1785924000-1785931200@parentingnetwork.org
SUMMARY:Project Fatherhood – Nurturing Fathers (Porterville)
DESCRIPTION:
URL:https://parentingnetwork.org/event/project-fatherhood-nurturing-fathers-porterville-55/
LOCATION:Porterville Office\, 770 N. Main St.\, Porterville\, CA\, 93257\, United States
CATEGORIES:Porterville Events
END:VEVENT
BEGIN:VEVENT
DTSTART;TZID=America/Los_Angeles:20260810T160000
DTEND;TZID=America/Los_Angeles:20260810T173000
DTSTAMP:20260423T004050
CREATED:20260422T172258Z
LAST-MODIFIED:20260422T172258Z
UID:13790-1786377600-1786383000@parentingnetwork.org
SUMMARY:Project Fatherhood (Dinuba – Spanish)
DESCRIPTION:
URL:https://parentingnetwork.org/event/project-fatherhood-dinuba-spanish-4/
LOCATION:Dinuba Office\, 597 N. Alta Ave\, Dinuba\, CA\, 93618\, United States
CATEGORIES:Dinuba Events
END:VEVENT
BEGIN:VEVENT
DTSTART;TZID=America/Los_Angeles:20260811T100000
DTEND;TZID=America/Los_Angeles:20260811T120000
DTSTAMP:20260423T004050
CREATED:20260422T185205Z
LAST-MODIFIED:20260422T185205Z
UID:13900-1786442400-1786449600@parentingnetwork.org
SUMMARY:Project Fatherhood – 24/7 Dad (Porterville)
DESCRIPTION:
URL:https://parentingnetwork.org/event/project-fatherhood-24-7-dad-porterville-56/
LOCATION:Porterville Office\, 770 N. Main St.\, Porterville\, CA\, 93257\, United States
CATEGORIES:Porterville Events
END:VEVENT
BEGIN:VEVENT
DTSTART;TZID=America/Los_Angeles:20260811T160000
DTEND;TZID=America/Los_Angeles:20260811T173000
DTSTAMP:20260423T004050
CREATED:20260422T183550Z
LAST-MODIFIED:20260422T183550Z
UID:13839-1786464000-1786469400@parentingnetwork.org
SUMMARY:Project Fatherhood (Dinuba)
DESCRIPTION:
URL:https://parentingnetwork.org/event/project-fatherhood-dinuba-10/
LOCATION:Dinuba Office\, 597 N. Alta Ave\, Dinuba\, CA\, 93618\, United States
CATEGORIES:Dinuba Events
END:VEVENT
BEGIN:VEVENT
DTSTART;TZID=America/Los_Angeles:20260812T100000
DTEND;TZID=America/Los_Angeles:20260812T120000
DTSTAMP:20260423T004050
CREATED:20260422T185118Z
LAST-MODIFIED:20260422T185118Z
UID:13898-1786528800-1786536000@parentingnetwork.org
SUMMARY:Project Fatherhood – Nurturing Fathers (Porterville)
DESCRIPTION:
URL:https://parentingnetwork.org/event/project-fatherhood-nurturing-fathers-porterville-56/
LOCATION:Porterville Office\, 770 N. Main St.\, Porterville\, CA\, 93257\, United States
CATEGORIES:Porterville Events
END:VEVENT
BEGIN:VEVENT
DTSTART;TZID=America/Los_Angeles:20260813T163000
DTEND;TZID=America/Los_Angeles:20260813T183000
DTSTAMP:20260423T004050
CREATED:20260106T163841Z
LAST-MODIFIED:20260106T163841Z
UID:13112-1786638600-1786645800@parentingnetwork.org
SUMMARY:Anti Bully
DESCRIPTION:
URL:https://parentingnetwork.org/event/anti-bully-8/
LOCATION:Visalia Office\, 330 N Johnson Street\, Visalia\, CA\, 93291\, United States
CATEGORIES:Visalia Events
END:VEVENT
BEGIN:VEVENT
DTSTART;TZID=America/Los_Angeles:20260817T160000
DTEND;TZID=America/Los_Angeles:20260817T173000
DTSTAMP:20260423T004050
CREATED:20260422T172338Z
LAST-MODIFIED:20260422T172338Z
UID:13792-1786982400-1786987800@parentingnetwork.org
SUMMARY:Project Fatherhood (Dinuba – Spanish)
DESCRIPTION:
URL:https://parentingnetwork.org/event/project-fatherhood-dinuba-spanish-5/
LOCATION:Dinuba Office\, 597 N. Alta Ave\, Dinuba\, CA\, 93618\, United States
CATEGORIES:Dinuba Events
END:VEVENT
BEGIN:VEVENT
DTSTART;TZID=America/Los_Angeles:20260818T100000
DTEND;TZID=America/Los_Angeles:20260818T120000
DTSTAMP:20260423T004050
CREATED:20260422T185307Z
LAST-MODIFIED:20260422T185307Z
UID:13902-1787047200-1787054400@parentingnetwork.org
SUMMARY:Project Fatherhood – 24/7 Dad (Porterville)
DESCRIPTION:
URL:https://parentingnetwork.org/event/project-fatherhood-24-7-dad-porterville-57/
LOCATION:Porterville Office\, 770 N. Main St.\, Porterville\, CA\, 93257\, United States
CATEGORIES:Porterville Events
END:VEVENT
BEGIN:VEVENT
DTSTART;TZID=America/Los_Angeles:20260818T160000
DTEND;TZID=America/Los_Angeles:20260818T173000
DTSTAMP:20260423T004050
CREATED:20260422T183617Z
LAST-MODIFIED:20260422T183617Z
UID:13841-1787068800-1787074200@parentingnetwork.org
SUMMARY:Project Fatherhood (Dinuba)
DESCRIPTION:
URL:https://parentingnetwork.org/event/project-fatherhood-dinuba-11/
LOCATION:Dinuba Office\, 597 N. Alta Ave\, Dinuba\, CA\, 93618\, United States
CATEGORIES:Dinuba Events
END:VEVENT
BEGIN:VEVENT
DTSTART;TZID=America/Los_Angeles:20260819T100000
DTEND;TZID=America/Los_Angeles:20260819T120000
DTSTAMP:20260423T004050
CREATED:20260422T185345Z
LAST-MODIFIED:20260422T185345Z
UID:13904-1787133600-1787140800@parentingnetwork.org
SUMMARY:Project Fatherhood – Nurturing Fathers (Porterville)
DESCRIPTION:
URL:https://parentingnetwork.org/event/project-fatherhood-nurturing-fathers-porterville-57/
LOCATION:Porterville Office\, 770 N. Main St.\, Porterville\, CA\, 93257\, United States
CATEGORIES:Porterville Events
END:VEVENT
BEGIN:VEVENT
DTSTART;TZID=America/Los_Angeles:20260824T160000
DTEND;TZID=America/Los_Angeles:20260824T173000
DTSTAMP:20260423T004050
CREATED:20260422T172403Z
LAST-MODIFIED:20260422T172403Z
UID:13794-1787587200-1787592600@parentingnetwork.org
SUMMARY:Project Fatherhood (Dinuba – Spanish)
DESCRIPTION:
URL:https://parentingnetwork.org/event/project-fatherhood-dinuba-spanish-6/
LOCATION:Dinuba Office\, 597 N. Alta Ave\, Dinuba\, CA\, 93618\, United States
CATEGORIES:Dinuba Events
END:VEVENT
BEGIN:VEVENT
DTSTART;TZID=America/Los_Angeles:20260825T160000
DTEND;TZID=America/Los_Angeles:20260825T173000
DTSTAMP:20260423T004050
CREATED:20260422T183646Z
LAST-MODIFIED:20260422T183646Z
UID:13843-1787673600-1787679000@parentingnetwork.org
SUMMARY:Project Fatherhood (Dinuba)
DESCRIPTION:
URL:https://parentingnetwork.org/event/project-fatherhood-dinuba-12/
LOCATION:Dinuba Office\, 597 N. Alta Ave\, Dinuba\, CA\, 93618\, United States
CATEGORIES:Dinuba Events
END:VEVENT
BEGIN:VEVENT
DTSTART;TZID=America/Los_Angeles:20260826T100000
DTEND;TZID=America/Los_Angeles:20260826T120000
DTSTAMP:20260423T004050
CREATED:20260422T185454Z
LAST-MODIFIED:20260422T190642Z
UID:13906-1787738400-1787745600@parentingnetwork.org
SUMMARY:Project Fatherhood – Nurturing Fathers (Porterville)
DESCRIPTION:
URL:https://parentingnetwork.org/event/project-fatherhood-nurturing-fathers-porterville-58/
LOCATION:Porterville Office\, 770 N. Main St.\, Porterville\, CA\, 93257\, United States
CATEGORIES:Porterville Events
END:VEVENT
BEGIN:VEVENT
DTSTART;TZID=America/Los_Angeles:20260831T160000
DTEND;TZID=America/Los_Angeles:20260831T173000
DTSTAMP:20260423T004050
CREATED:20260422T172427Z
LAST-MODIFIED:20260422T172427Z
UID:13796-1788192000-1788197400@parentingnetwork.org
SUMMARY:Project Fatherhood (Dinuba – Spanish)
DESCRIPTION:
URL:https://parentingnetwork.org/event/project-fatherhood-dinuba-spanish-7/
LOCATION:Dinuba Office\, 597 N. Alta Ave\, Dinuba\, CA\, 93618\, United States
CATEGORIES:Dinuba Events
END:VEVENT
BEGIN:VEVENT
DTSTART;TZID=America/Los_Angeles:20260901T160000
DTEND;TZID=America/Los_Angeles:20260901T173000
DTSTAMP:20260423T004050
CREATED:20260422T183714Z
LAST-MODIFIED:20260422T183714Z
UID:13845-1788278400-1788283800@parentingnetwork.org
SUMMARY:Project Fatherhood (Dinuba)
DESCRIPTION:
URL:https://parentingnetwork.org/event/project-fatherhood-dinuba-13/
LOCATION:Dinuba Office\, 597 N. Alta Ave\, Dinuba\, CA\, 93618\, United States
CATEGORIES:Dinuba Events
END:VEVENT
BEGIN:VEVENT
DTSTART;TZID=America/Los_Angeles:20260901T170000
DTEND;TZID=America/Los_Angeles:20260901T180000
DTSTAMP:20260423T004050
CREATED:20260326T162923Z
LAST-MODIFIED:20260402T174616Z
UID:13630-1788282000-1788285600@parentingnetwork.org
SUMMARY:Parent Partner Support Group
DESCRIPTION:
URL:https://parentingnetwork.org/event/parent-partner-support-group-9/
LOCATION:Visalia Office/Virtual Streaming\, 330 N Johnson St\, Visalia\, CA\, 93291\, United States
CATEGORIES:Visalia Events
END:VEVENT
BEGIN:VEVENT
DTSTART;VALUE=DATE:20260907
DTEND;VALUE=DATE:20260908
DTSTAMP:20260423T004050
CREATED:20251110T223042Z
LAST-MODIFIED:20251110T223042Z
UID:12834-1788739200-1788825599@parentingnetwork.org
SUMMARY:Office Closed
DESCRIPTION:
URL:https://parentingnetwork.org/event/office-closed-6/
LOCATION:CA
END:VEVENT
BEGIN:VEVENT
DTSTART;TZID=America/Los_Angeles:20260908T160000
DTEND;TZID=America/Los_Angeles:20260908T173000
DTSTAMP:20260423T004050
CREATED:20260422T183741Z
LAST-MODIFIED:20260422T183741Z
UID:13847-1788883200-1788888600@parentingnetwork.org
SUMMARY:Project Fatherhood (Dinuba)
DESCRIPTION:
URL:https://parentingnetwork.org/event/project-fatherhood-dinuba-14/
LOCATION:Dinuba Office\, 597 N. Alta Ave\, Dinuba\, CA\, 93618\, United States
CATEGORIES:Dinuba Events
END:VEVENT
BEGIN:VEVENT
DTSTART;TZID=America/Los_Angeles:20260910T163000
DTEND;TZID=America/Los_Angeles:20260910T183000
DTSTAMP:20260423T004050
CREATED:20260106T163908Z
LAST-MODIFIED:20260106T163908Z
UID:13114-1789057800-1789065000@parentingnetwork.org
SUMMARY:Anti Bully
DESCRIPTION:
URL:https://parentingnetwork.org/event/anti-bully-9/
LOCATION:Visalia Office\, 330 N Johnson Street\, Visalia\, CA\, 93291\, United States
END:VEVENT
BEGIN:VEVENT
DTSTART;TZID=America/Los_Angeles:20260914T160000
DTEND;TZID=America/Los_Angeles:20260914T173000
DTSTAMP:20260423T004050
CREATED:20260422T172458Z
LAST-MODIFIED:20260422T172458Z
UID:13798-1789401600-1789407000@parentingnetwork.org
SUMMARY:Project Fatherhood (Dinuba – Spanish)
DESCRIPTION:
URL:https://parentingnetwork.org/event/project-fatherhood-dinuba-spanish-8/
LOCATION:Dinuba Office\, 597 N. Alta Ave\, Dinuba\, CA\, 93618\, United States
CATEGORIES:Dinuba Events
END:VEVENT
BEGIN:VEVENT
DTSTART;TZID=America/Los_Angeles:20260915T160000
DTEND;TZID=America/Los_Angeles:20260915T173000
DTSTAMP:20260423T004050
CREATED:20260422T183806Z
LAST-MODIFIED:20260422T183806Z
UID:13849-1789488000-1789493400@parentingnetwork.org
SUMMARY:Project Fatherhood (Dinuba)
DESCRIPTION:
URL:https://parentingnetwork.org/event/project-fatherhood-dinuba-15/
LOCATION:Dinuba Office\, 597 N. Alta Ave\, Dinuba\, CA\, 93618\, United States
CATEGORIES:Dinuba Events
END:VEVENT
BEGIN:VEVENT
DTSTART;TZID=America/Los_Angeles:20260921T160000
DTEND;TZID=America/Los_Angeles:20260921T173000
DTSTAMP:20260423T004050
CREATED:20260422T172522Z
LAST-MODIFIED:20260422T172522Z
UID:13800-1790006400-1790011800@parentingnetwork.org
SUMMARY:Project Fatherhood (Dinuba – Spanish)
DESCRIPTION:
URL:https://parentingnetwork.org/event/project-fatherhood-dinuba-spanish-9/
LOCATION:Dinuba Office\, 597 N. Alta Ave\, Dinuba\, CA\, 93618\, United States
CATEGORIES:Dinuba Events
END:VEVENT
END:VCALENDAR