BEGIN:VCALENDAR
VERSION:2.0
PRODID:-//Parenting Network, Inc. - ECPv6.15.11//NONSGML v1.0//EN
CALSCALE:GREGORIAN
METHOD:PUBLISH
X-WR-CALNAME:Parenting Network, Inc.
X-ORIGINAL-URL:https://parentingnetwork.org
X-WR-CALDESC:Events for Parenting Network, Inc.
REFRESH-INTERVAL;VALUE=DURATION:PT1H
X-Robots-Tag:noindex
X-PUBLISHED-TTL:PT1H
BEGIN:VTIMEZONE
TZID:America/Los_Angeles
BEGIN:DAYLIGHT
TZOFFSETFROM:-0800
TZOFFSETTO:-0700
TZNAME:PDT
DTSTART:20250309T100000
END:DAYLIGHT
BEGIN:STANDARD
TZOFFSETFROM:-0700
TZOFFSETTO:-0800
TZNAME:PST
DTSTART:20251102T090000
END:STANDARD
BEGIN:DAYLIGHT
TZOFFSETFROM:-0800
TZOFFSETTO:-0700
TZNAME:PDT
DTSTART:20260308T100000
END:DAYLIGHT
BEGIN:STANDARD
TZOFFSETFROM:-0700
TZOFFSETTO:-0800
TZNAME:PST
DTSTART:20261101T090000
END:STANDARD
BEGIN:DAYLIGHT
TZOFFSETFROM:-0800
TZOFFSETTO:-0700
TZNAME:PDT
DTSTART:20270314T100000
END:DAYLIGHT
BEGIN:STANDARD
TZOFFSETFROM:-0700
TZOFFSETTO:-0800
TZNAME:PST
DTSTART:20271107T090000
END:STANDARD
BEGIN:DAYLIGHT
TZOFFSETFROM:-0800
TZOFFSETTO:-0700
TZNAME:PDT
DTSTART:20280312T100000
END:DAYLIGHT
BEGIN:STANDARD
TZOFFSETFROM:-0700
TZOFFSETTO:-0800
TZNAME:PST
DTSTART:20281105T090000
END:STANDARD
END:VTIMEZONE
BEGIN:VEVENT
DTSTART;TZID=America/Los_Angeles:20260824T160000
DTEND;TZID=America/Los_Angeles:20260824T173000
DTSTAMP:20260422T104036
CREATED:20260422T172403Z
LAST-MODIFIED:20260422T172403Z
UID:13794-1787587200-1787592600@parentingnetwork.org
SUMMARY:Project Fatherhood (Dinuba – Spanish)
DESCRIPTION:
URL:https://parentingnetwork.org/event/project-fatherhood-dinuba-spanish-6/
LOCATION:Dinuba Office\, 597 N. Alta Ave\, Dinuba\, CA\, 93618\, United States
CATEGORIES:Dinuba Events
END:VEVENT
BEGIN:VEVENT
DTSTART;TZID=America/Los_Angeles:20260831T160000
DTEND;TZID=America/Los_Angeles:20260831T173000
DTSTAMP:20260422T104036
CREATED:20260422T172427Z
LAST-MODIFIED:20260422T172427Z
UID:13796-1788192000-1788197400@parentingnetwork.org
SUMMARY:Project Fatherhood (Dinuba – Spanish)
DESCRIPTION:
URL:https://parentingnetwork.org/event/project-fatherhood-dinuba-spanish-7/
LOCATION:Dinuba Office\, 597 N. Alta Ave\, Dinuba\, CA\, 93618\, United States
CATEGORIES:Dinuba Events
END:VEVENT
BEGIN:VEVENT
DTSTART;TZID=America/Los_Angeles:20260901T170000
DTEND;TZID=America/Los_Angeles:20260901T180000
DTSTAMP:20260422T104036
CREATED:20260326T162923Z
LAST-MODIFIED:20260402T174616Z
UID:13630-1788282000-1788285600@parentingnetwork.org
SUMMARY:Parent Partner Support Group
DESCRIPTION:
URL:https://parentingnetwork.org/event/parent-partner-support-group-9/
LOCATION:Visalia Office/Virtual Streaming\, 330 N Johnson St\, Visalia\, CA\, 93291\, United States
CATEGORIES:Visalia Events
END:VEVENT
BEGIN:VEVENT
DTSTART;VALUE=DATE:20260907
DTEND;VALUE=DATE:20260908
DTSTAMP:20260422T104036
CREATED:20251110T223042Z
LAST-MODIFIED:20251110T223042Z
UID:12834-1788739200-1788825599@parentingnetwork.org
SUMMARY:Office Closed
DESCRIPTION:
URL:https://parentingnetwork.org/event/office-closed-6/
LOCATION:CA
END:VEVENT
BEGIN:VEVENT
DTSTART;TZID=America/Los_Angeles:20260910T163000
DTEND;TZID=America/Los_Angeles:20260910T183000
DTSTAMP:20260422T104036
CREATED:20260106T163908Z
LAST-MODIFIED:20260106T163908Z
UID:13114-1789057800-1789065000@parentingnetwork.org
SUMMARY:Anti Bully
DESCRIPTION:
URL:https://parentingnetwork.org/event/anti-bully-9/
LOCATION:Visalia Office\, 330 N Johnson Street\, Visalia\, CA\, 93291\, United States
END:VEVENT
BEGIN:VEVENT
DTSTART;TZID=America/Los_Angeles:20260914T160000
DTEND;TZID=America/Los_Angeles:20260914T173000
DTSTAMP:20260422T104036
CREATED:20260422T172458Z
LAST-MODIFIED:20260422T172458Z
UID:13798-1789401600-1789407000@parentingnetwork.org
SUMMARY:Project Fatherhood (Dinuba – Spanish)
DESCRIPTION:
URL:https://parentingnetwork.org/event/project-fatherhood-dinuba-spanish-8/
LOCATION:Dinuba Office\, 597 N. Alta Ave\, Dinuba\, CA\, 93618\, United States
CATEGORIES:Dinuba Events
END:VEVENT
BEGIN:VEVENT
DTSTART;TZID=America/Los_Angeles:20260921T160000
DTEND;TZID=America/Los_Angeles:20260921T173000
DTSTAMP:20260422T104036
CREATED:20260422T172522Z
LAST-MODIFIED:20260422T172522Z
UID:13800-1790006400-1790011800@parentingnetwork.org
SUMMARY:Project Fatherhood (Dinuba – Spanish)
DESCRIPTION:
URL:https://parentingnetwork.org/event/project-fatherhood-dinuba-spanish-9/
LOCATION:Dinuba Office\, 597 N. Alta Ave\, Dinuba\, CA\, 93618\, United States
CATEGORIES:Dinuba Events
END:VEVENT
BEGIN:VEVENT
DTSTART;TZID=America/Los_Angeles:20260928T160000
DTEND;TZID=America/Los_Angeles:20260928T173000
DTSTAMP:20260422T104036
CREATED:20260422T172552Z
LAST-MODIFIED:20260422T172552Z
UID:13802-1790611200-1790616600@parentingnetwork.org
SUMMARY:Project Fatherhood (Dinuba – Spanish)
DESCRIPTION:
URL:https://parentingnetwork.org/event/project-fatherhood-dinuba-spanish-10/
LOCATION:Dinuba Office\, 597 N. Alta Ave\, Dinuba\, CA\, 93618\, United States
CATEGORIES:Dinuba Events
END:VEVENT
BEGIN:VEVENT
DTSTART;TZID=America/Los_Angeles:20261005T160000
DTEND;TZID=America/Los_Angeles:20261005T173000
DTSTAMP:20260422T104036
CREATED:20260422T172623Z
LAST-MODIFIED:20260422T172623Z
UID:13804-1791216000-1791221400@parentingnetwork.org
SUMMARY:Project Fatherhood (Dinuba – Spanish)
DESCRIPTION:
URL:https://parentingnetwork.org/event/project-fatherhood-dinuba-spanish-11/
LOCATION:Dinuba Office\, 597 N. Alta Ave\, Dinuba\, CA\, 93618\, United States
CATEGORIES:Dinuba Events
END:VEVENT
BEGIN:VEVENT
DTSTART;TZID=America/Los_Angeles:20261008T163000
DTEND;TZID=America/Los_Angeles:20261008T183000
DTSTAMP:20260422T104036
CREATED:20260106T163939Z
LAST-MODIFIED:20260106T163939Z
UID:13116-1791477000-1791484200@parentingnetwork.org
SUMMARY:Anti Bully
DESCRIPTION:
URL:https://parentingnetwork.org/event/anti-bully-10/
LOCATION:Visalia Office\, 330 N Johnson Street\, Visalia\, CA\, 93291\, United States
CATEGORIES:Visalia Events
END:VEVENT
BEGIN:VEVENT
DTSTART;TZID=America/Los_Angeles:20261012T160000
DTEND;TZID=America/Los_Angeles:20261012T173000
DTSTAMP:20260422T104036
CREATED:20260422T172645Z
LAST-MODIFIED:20260422T172645Z
UID:13806-1791820800-1791826200@parentingnetwork.org
SUMMARY:Project Fatherhood (Dinuba – Spanish)
DESCRIPTION:
URL:https://parentingnetwork.org/event/project-fatherhood-dinuba-spanish-60/
LOCATION:Dinuba Office\, 597 N. Alta Ave\, Dinuba\, CA\, 93618\, United States
CATEGORIES:Dinuba Events
END:VEVENT
BEGIN:VEVENT
DTSTART;TZID=America/Los_Angeles:20261019T160000
DTEND;TZID=America/Los_Angeles:20261019T173000
DTSTAMP:20260422T104036
CREATED:20260422T172710Z
LAST-MODIFIED:20260422T172710Z
UID:13808-1792425600-1792431000@parentingnetwork.org
SUMMARY:Project Fatherhood (Dinuba – Spanish)
DESCRIPTION:
URL:https://parentingnetwork.org/event/project-fatherhood-dinuba-spanish-61/
LOCATION:Dinuba Office\, 597 N. Alta Ave\, Dinuba\, CA\, 93618\, United States
CATEGORIES:Dinuba Events
END:VEVENT
BEGIN:VEVENT
DTSTART;TZID=America/Los_Angeles:20261026T160000
DTEND;TZID=America/Los_Angeles:20261026T173000
DTSTAMP:20260422T104036
CREATED:20260422T172738Z
LAST-MODIFIED:20260422T172738Z
UID:13810-1793030400-1793035800@parentingnetwork.org
SUMMARY:Project Fatherhood (Dinuba – Spanish)
DESCRIPTION:
URL:https://parentingnetwork.org/event/project-fatherhood-dinuba-spanish-62/
LOCATION:Dinuba Office\, 597 N. Alta Ave\, Dinuba\, CA\, 93618\, United States
CATEGORIES:Dinuba Events
END:VEVENT
BEGIN:VEVENT
DTSTART;TZID=America/Los_Angeles:20261102T160000
DTEND;TZID=America/Los_Angeles:20261102T173000
DTSTAMP:20260422T104036
CREATED:20260422T172809Z
LAST-MODIFIED:20260422T172809Z
UID:13812-1793635200-1793640600@parentingnetwork.org
SUMMARY:Project Fatherhood (Dinuba – Spanish)
DESCRIPTION:
URL:https://parentingnetwork.org/event/project-fatherhood-dinuba-spanish-63/
LOCATION:Dinuba Office\, 597 N. Alta Ave\, Dinuba\, CA\, 93618\, United States
CATEGORIES:Dinuba Events
END:VEVENT
BEGIN:VEVENT
DTSTART;TZID=America/Los_Angeles:20261109T160000
DTEND;TZID=America/Los_Angeles:20261109T173000
DTSTAMP:20260422T104036
CREATED:20260422T172835Z
LAST-MODIFIED:20260422T172835Z
UID:13814-1794240000-1794245400@parentingnetwork.org
SUMMARY:Project Fatherhood (Dinuba – Spanish)
DESCRIPTION:
URL:https://parentingnetwork.org/event/project-fatherhood-dinuba-spanish-64/
LOCATION:Dinuba Office\, 597 N. Alta Ave\, Dinuba\, CA\, 93618\, United States
CATEGORIES:Dinuba Events
END:VEVENT
BEGIN:VEVENT
DTSTART;VALUE=DATE:20261111
DTEND;VALUE=DATE:20261112
DTSTAMP:20260422T104036
CREATED:20251110T223057Z
LAST-MODIFIED:20251110T223057Z
UID:12836-1794355200-1794441599@parentingnetwork.org
SUMMARY:Office Closed
DESCRIPTION:
URL:https://parentingnetwork.org/event/office-closed-7/
LOCATION:CA
END:VEVENT
BEGIN:VEVENT
DTSTART;TZID=America/Los_Angeles:20261116T160000
DTEND;TZID=America/Los_Angeles:20261116T173000
DTSTAMP:20260422T104036
CREATED:20260422T172900Z
LAST-MODIFIED:20260422T172900Z
UID:13816-1794844800-1794850200@parentingnetwork.org
SUMMARY:Project Fatherhood (Dinuba – Spanish)
DESCRIPTION:
URL:https://parentingnetwork.org/event/project-fatherhood-dinuba-spanish-65/
LOCATION:Dinuba Office\, 597 N. Alta Ave\, Dinuba\, CA\, 93618\, United States
CATEGORIES:Dinuba Events
END:VEVENT
BEGIN:VEVENT
DTSTART;TZID=America/Los_Angeles:20261123T160000
DTEND;TZID=America/Los_Angeles:20261123T173000
DTSTAMP:20260422T104036
CREATED:20260422T172942Z
LAST-MODIFIED:20260422T172942Z
UID:13818-1795449600-1795455000@parentingnetwork.org
SUMMARY:Project Fatherhood (Dinuba – Spanish)
DESCRIPTION:
URL:https://parentingnetwork.org/event/project-fatherhood-dinuba-spanish-66/
LOCATION:Dinuba Office\, 597 N. Alta Ave\, Dinuba\, CA\, 93618\, United States
CATEGORIES:Dinuba Events
END:VEVENT
BEGIN:VEVENT
DTSTART;VALUE=DATE:20261126
DTEND;VALUE=DATE:20261128
DTSTAMP:20260422T104036
CREATED:20251110T223123Z
LAST-MODIFIED:20251110T223123Z
UID:12838-1795651200-1795823999@parentingnetwork.org
SUMMARY:Office Closed - Thanksgiving
DESCRIPTION:
URL:https://parentingnetwork.org/event/office-closed-thanksgiving/
LOCATION:CA
END:VEVENT
BEGIN:VEVENT
DTSTART;TZID=America/Los_Angeles:20261130T160000
DTEND;TZID=America/Los_Angeles:20261130T173000
DTSTAMP:20260422T104036
CREATED:20260422T173008Z
LAST-MODIFIED:20260422T173008Z
UID:13820-1796054400-1796059800@parentingnetwork.org
SUMMARY:Project Fatherhood (Dinuba – Spanish)
DESCRIPTION:
URL:https://parentingnetwork.org/event/project-fatherhood-dinuba-spanish-67/
LOCATION:Dinuba Office\, 597 N. Alta Ave\, Dinuba\, CA\, 93618\, United States
CATEGORIES:Dinuba Events
END:VEVENT
BEGIN:VEVENT
DTSTART;VALUE=DATE:20261224
DTEND;VALUE=DATE:20261226
DTSTAMP:20260422T104036
CREATED:20251110T223147Z
LAST-MODIFIED:20251110T223147Z
UID:12840-1798070400-1798243199@parentingnetwork.org
SUMMARY:Office Closed
DESCRIPTION:
URL:https://parentingnetwork.org/event/office-closed-8/
LOCATION:CA
END:VEVENT
BEGIN:VEVENT
DTSTART;VALUE=DATE:20261231
DTEND;VALUE=DATE:20270102
DTSTAMP:20260422T104036
CREATED:20251110T223211Z
LAST-MODIFIED:20251110T223211Z
UID:12842-1798675200-1798847999@parentingnetwork.org
SUMMARY:Office Closed
DESCRIPTION:
URL:https://parentingnetwork.org/event/office-closed-9/
LOCATION:CA
END:VEVENT
END:VCALENDAR